BEGIN:VCALENDAR
VERSION:2.0
PRODID:-// - ECPv6.15.13.1//NONSGML v1.0//EN
CALSCALE:GREGORIAN
METHOD:PUBLISH
X-ORIGINAL-URL:https://www.carlw.de
X-WR-CALDESC:Veranstaltungen für 
REFRESH-INTERVAL;VALUE=DURATION:PT1H
X-Robots-Tag:noindex
X-PUBLISHED-TTL:PT1H
BEGIN:VTIMEZONE
TZID:Europe/Berlin
BEGIN:DAYLIGHT
TZOFFSETFROM:+0100
TZOFFSETTO:+0200
TZNAME:CEST
DTSTART:20200329T010000
END:DAYLIGHT
BEGIN:STANDARD
TZOFFSETFROM:+0200
TZOFFSETTO:+0100
TZNAME:CET
DTSTART:20201025T010000
END:STANDARD
BEGIN:DAYLIGHT
TZOFFSETFROM:+0100
TZOFFSETTO:+0200
TZNAME:CEST
DTSTART:20210328T010000
END:DAYLIGHT
BEGIN:STANDARD
TZOFFSETFROM:+0200
TZOFFSETTO:+0100
TZNAME:CET
DTSTART:20211031T010000
END:STANDARD
BEGIN:DAYLIGHT
TZOFFSETFROM:+0100
TZOFFSETTO:+0200
TZNAME:CEST
DTSTART:20220327T010000
END:DAYLIGHT
BEGIN:STANDARD
TZOFFSETFROM:+0200
TZOFFSETTO:+0100
TZNAME:CET
DTSTART:20221030T010000
END:STANDARD
END:VTIMEZONE
BEGIN:VEVENT
DTSTART;TZID=Europe/Berlin:20210416T200000
DTEND;TZID=Europe/Berlin:20210416T200000
DTSTAMP:20260422T134416
CREATED:20210412T185512Z
LAST-MODIFIED:20210415T145645Z
UID:380-1618603200-1618603200@www.carlw.de
SUMMARY:Offene Bühne
DESCRIPTION:Vor fast genau einem Jahr gab es die letzte OFFENE BÜHNE. Das ist viel zu lange her. Deshalb starten wir wieder: am 16.4.2021\, selbstverständlich online und coronakonform.\nEine kleine Überraschung gibt es auch. Lest unten weiter.\nStarten tun wir um 20 Uhr. Über folgenden Link kommt ihr zur Veranstaltung\n\n\n\n\nhttps://www.youtube.com/channel/UCUid1h8QtIFBHqIEX5Tz8GA\n\noder über die Suche folgendes eingeben: carl weissmusic\n\n\nPeter und ich unterstützen dieses Mal die Berufsmusiker\, die sehr unter der Pandemie leiden. Wir haben ein Spendenkonte eingerichtet. Außerdem gibt es einen Bierverkauf mit Lieferservice (innerhalb Dettingens)\, der Erlös wird ebenfalls komplett gespendet.\nDie Spendenadresse lautet:\nhttps://paypal.me/pools/c/8y3YsbCCJ0\n\n\nBestell-Hotline: 01 77/ 5 65 26 50\, bitte passend zahlen (gerne großzügig aufrunden) oder ebenfalls über das Paypalkonto.\nDer virtuelle Spendenhut bleibt bis zum 30.4.2021 aktiv.\n\nWir wollen wieder rocken und rollen.\nBis demnächst und bleibt gesund.\nPeter und Carl
URL:https://www.carlw.de/event/offene-buehne-2/
CATEGORIES:OFFENE BÜHNE.
END:VEVENT
END:VCALENDAR